BEGIN:VCALENDAR
VERSION:2.0
PRODID:-//Cattedrale di Udine - ECPv6.15.20//NONSGML v1.0//EN
CALSCALE:GREGORIAN
METHOD:PUBLISH
X-WR-CALNAME:Cattedrale di Udine
X-ORIGINAL-URL:https://www.cattedraleudine.it
X-WR-CALDESC:Eventi per Cattedrale di Udine
REFRESH-INTERVAL;VALUE=DURATION:PT1H
X-Robots-Tag:noindex
X-PUBLISHED-TTL:PT1H
BEGIN:VTIMEZONE
TZID:Europe/Rome
BEGIN:DAYLIGHT
TZOFFSETFROM:+0100
TZOFFSETTO:+0200
TZNAME:CEST
DTSTART:20220327T010000
END:DAYLIGHT
BEGIN:STANDARD
TZOFFSETFROM:+0200
TZOFFSETTO:+0100
TZNAME:CET
DTSTART:20221030T010000
END:STANDARD
BEGIN:DAYLIGHT
TZOFFSETFROM:+0100
TZOFFSETTO:+0200
TZNAME:CEST
DTSTART:20230326T010000
END:DAYLIGHT
BEGIN:STANDARD
TZOFFSETFROM:+0200
TZOFFSETTO:+0100
TZNAME:CET
DTSTART:20231029T010000
END:STANDARD
BEGIN:DAYLIGHT
TZOFFSETFROM:+0100
TZOFFSETTO:+0200
TZNAME:CEST
DTSTART:20240331T010000
END:DAYLIGHT
BEGIN:STANDARD
TZOFFSETFROM:+0200
TZOFFSETTO:+0100
TZNAME:CET
DTSTART:20241027T010000
END:STANDARD
END:VTIMEZONE
BEGIN:VEVENT
DTSTART;TZID=Europe/Rome:20231224T190000
DTEND;TZID=Europe/Rome:20231224T220000
DTSTAMP:20260423T212353
CREATED:20240517T093839Z
LAST-MODIFIED:20240517T100622Z
UID:3164-1703444400-1703455200@www.cattedraleudine.it
SUMMARY:Anno Pastorale dei Sordi (Vigilia di Natale)
DESCRIPTION:24 DICEMBRE: S. Messa della Vigilia di Natale alle ore 19:00 nell’Oratorio della Purità – pizzata e scambio degli auguri.
URL:https://www.cattedraleudine.it/event/anno-pastorale-dei-sordi-vigilia-di-natale/
LOCATION:Oratorio della Purità\, Piazza del Duomo\, 2\, Udine\, Udine\, 33100\, Italia
CATEGORIES:Eventi Sordi
ORGANIZER;CN="Cattedrale di Udine":MAILTO:info@cattedraleudine.it
END:VEVENT
END:VCALENDAR