BEGIN:VCALENDAR
VERSION:2.0
PRODID:-//Cattedrale di Udine - ECPv6.15.20//NONSGML v1.0//EN
CALSCALE:GREGORIAN
METHOD:PUBLISH
X-ORIGINAL-URL:https://www.cattedraleudine.it
X-WR-CALDESC:Eventi per Cattedrale di Udine
REFRESH-INTERVAL;VALUE=DURATION:PT1H
X-Robots-Tag:noindex
X-PUBLISHED-TTL:PT1H
BEGIN:VTIMEZONE
TZID:Europe/Rome
BEGIN:DAYLIGHT
TZOFFSETFROM:+0100
TZOFFSETTO:+0200
TZNAME:CEST
DTSTART:20250330T010000
END:DAYLIGHT
BEGIN:STANDARD
TZOFFSETFROM:+0200
TZOFFSETTO:+0100
TZNAME:CET
DTSTART:20251026T010000
END:STANDARD
BEGIN:DAYLIGHT
TZOFFSETFROM:+0100
TZOFFSETTO:+0200
TZNAME:CEST
DTSTART:20260329T010000
END:DAYLIGHT
BEGIN:STANDARD
TZOFFSETFROM:+0200
TZOFFSETTO:+0100
TZNAME:CET
DTSTART:20261025T010000
END:STANDARD
BEGIN:DAYLIGHT
TZOFFSETFROM:+0100
TZOFFSETTO:+0200
TZNAME:CEST
DTSTART:20270328T010000
END:DAYLIGHT
BEGIN:STANDARD
TZOFFSETFROM:+0200
TZOFFSETTO:+0100
TZNAME:CET
DTSTART:20271031T010000
END:STANDARD
END:VTIMEZONE
BEGIN:VEVENT
DTSTART;TZID=Europe/Rome:20260327T170000
DTEND;TZID=Europe/Rome:20260327T183000
DTSTAMP:20260423T190833
CREATED:20260321T100325Z
LAST-MODIFIED:20260321T223313Z
UID:7066-1774630800-1774636200@www.cattedraleudine.it
SUMMARY:Via Crucis
DESCRIPTION:GIORNO DI ASTINENZA \nOre 17.00: Chiesa di S. Giacomo \nOre 18.00: Chiesa della Purità con i genitori e i bambini del catechismo
URL:https://www.cattedraleudine.it/event/via-crucis-3/
ATTACH;FMTTYPE=image/jpeg:https://www.cattedraleudine.it/wp-content/uploads/2024/04/via-crucis.jpg
END:VEVENT
BEGIN:VEVENT
DTSTART;TZID=Europe/Rome:20260327T203000
DTEND;TZID=Europe/Rome:20260327T220000
DTSTAMP:20260423T190833
CREATED:20260321T225003Z
LAST-MODIFIED:20260321T225003Z
UID:7240-1774643400-1774648800@www.cattedraleudine.it
SUMMARY:Concerto
DESCRIPTION:IN CATTEDRALE \nOre 20.30: Concerto “Requiem di Mozart”. \nCoro e orchestra del Friuli Venezia Giulia.
URL:https://www.cattedraleudine.it/event/concerto-12/
LOCATION:Cattedrale di Udine\, Piazza del Duomo\, 1\, Udine\, Udine\, 33100\, Italia
ATTACH;FMTTYPE=image/jpeg:https://www.cattedraleudine.it/wp-content/uploads/2026/03/Mozart.jpg
END:VEVENT
END:VCALENDAR